View In:
ArcGIS JavaScript
ArcGIS Online Map Viewer
ArcGIS Earth
ArcMap
View Footprint In:
ArcGIS Online Map Viewer
Service Description: Raster/Planzeichnung_Im_Wiesengrund
Name: Raster/Planzeichnung_Im_Wiesengrund
Description:
Single Fused Map Cache: false
Extent:
XMin: 735566.2113105173
YMin: 5513471.1419820655
XMax: 736344.1684292768
YMax: 5514036.394332097
Spatial Reference: 25832
(25832)
Initial Extent:
XMin: 735566.2113105173
YMin: 5513471.1419820655
XMax: 736344.1684292768
YMax: 5514036.394332097
Spatial Reference: 25832
(25832)
Full Extent:
XMin: 735566.2113105173
YMin: 5513471.1419820655
XMax: 736344.1684292768
YMax: 5514036.394332097
Spatial Reference: 25832
(25832)
Pixel Size X: 0.18818507952576533
Pixel Size Y: 0.09669044646448824
Band Count: 4
Pixel Type: U8
RasterFunction Infos: {"rasterFunctionInfos": [{
"name": "None",
"description": "",
"help": ""
}]}
Mensuration Capabilities: Basic
Has Histograms: true
Has Colormap: false
Has Multi Dimensions : false
Rendering Rule:
Min Scale: 0
Max Scale: 0
Copyright Text:
Service Data Type: esriImageServiceDataTypeGeneric
Min Values: 0, 0, 0, 255
Max Values: 255, 255, 255, 255
Mean Values: 238.6640103157299, 237.94223126692674, 235.90697123608516, 255
Standard Deviation Values: 52.48504416507049, 51.717905046068935, 56.180137067062184, 0
Object ID Field:
Fields:
None
Default Mosaic Method: Center
Allowed Mosaic Methods:
SortField:
SortValue: null
Mosaic Operator: First
Default Compression Quality: 75
Default Resampling Method: Bilinear
Max Record Count: null
Max Image Height: 4100
Max Image Width: 15000
Max Download Image Count: null
Max Mosaic Image Count: null
Allow Raster Function: true
Allow Copy: true
Allow Analysis: true
Allow Compute TiePoints: false
Supports Statistics: false
Supports Advanced Queries: false
Use StandardizedQueries: true
Raster Type Infos:
Name: Raster Dataset
Description: Unterstützt alle ArcGIS-Raster-Datasets
Help:
Has Raster Attribute Table: false
Edit Fields Info: null
Ownership Based AccessControl For Rasters: null
Child Resources:
Info
Histograms
Statistics
Key Properties
Legend
Raster Function Infos
Supported Operations:
Export Image
Identify
Measure
Compute Histograms
Compute Statistics Histograms
Get Samples
Compute Class Statistics
Query Boundary
Compute Pixel Location
Validate
Project